BEGIN:VCALENDAR
VERSION:2.0
PRODID:http://www.pr-lebach.de
BEGIN:VEVENT
UID:0013e15e-38a8-11f1-a3e9-0242ac11002b-1778167800000-de
DTSTAMP:20260415T084923Z
DTSTART:20260507T153000Z
DTEND:20260507T170000Z
SUMMARY;LANGUAGE=de:1. Treffen des neuen Kinderchors in Uchtelfangen
DESCRIPTION;LANGUAGE=de:KINDERCHOR ST. ANTONIUS VON PADUA – Singen macht Freude Hast du Spaß am Singen? Bist du zwischen 6 und 12 Jahre alt? Dann komm zu unserem Kinderchor! Wir singen fröhliche Lieder\, haben Spaß und treten auch gemeinsam auf!
END:VEVENT
END:VCALENDAR
